BEGIN:VCALENDAR
VERSION:2.0
PRODID:-//Coffs Harbour Board Riders - ECPv6.13.2.1//NONSGML v1.0//EN
CALSCALE:GREGORIAN
METHOD:PUBLISH
X-WR-CALNAME:Coffs Harbour Board Riders
X-ORIGINAL-URL:https://coffsharbourboardriders.com.au
X-WR-CALDESC:Events for Coffs Harbour Board Riders
REFRESH-INTERVAL;VALUE=DURATION:PT1H
X-Robots-Tag:noindex
X-PUBLISHED-TTL:PT1H
BEGIN:VTIMEZONE
TZID:Australia/Sydney
BEGIN:STANDARD
TZOFFSETFROM:+1100
TZOFFSETTO:+1000
TZNAME:AEST
DTSTART:20230401T160000
END:STANDARD
BEGIN:DAYLIGHT
TZOFFSETFROM:+1000
TZOFFSETTO:+1100
TZNAME:AEDT
DTSTART:20230930T160000
END:DAYLIGHT
END:VTIMEZONE
BEGIN:VEVENT
DTSTART;VALUE=DATE:20230415
DTEND;VALUE=DATE:20230420
DTSTAMP:20260425T012816
CREATED:20181205T021731Z
LAST-MODIFIED:20230131T040453Z
UID:6615-1681516800-1681948799@coffsharbourboardriders.com.au
SUMMARY:Billabong Oz Grom Cup 2023
DESCRIPTION:Billabong Oz Grom Cup presented by Coopers Surf Australia\n  \nThe Billabong Oz Grom Cup presented by Coopers Surf Australia is back in 2023. This year we are excited to announce a new division\, Under 18. Please note we will also be modifying the age divisions with the new ruling you CAN’T be turning 12 if you wish to enter the Under 12 division. We have done this to align with our rankings and State Titles pathway. \nEntries \nClick for more info and entries\nThe Billabong Oz Grom Cup is returning once again to the Coffs Harbour region in 2023. \nEvent Date: \nSaturday 15th – Wednesday 19th April 2023. \nEvent Locations: \nPark Beach\, North Wall\, Diggers\, Sawtell\, Gallows and McCauleys Beach. \nEntry Fee: \n$140 + GST \nHeat Draw and Schedule: \nTBC \nSchedule: \nEvent heat draw and schedule will be released 2 days prior to the event . \nThe competition will commence each day at 7:30am with the call for the day’s schedule and location confirmed via the Event Hotline (0458 247 212) at 6:45am. \nEvent Divisions & Age Clarification: \nSINGLE ENTRY ONLY\, NO DOUBLE DIVISION ENTRIES \nUnder 8 Mixed – (can not turn 8 in 2023): Parental assist optional\, Judging accordingly\nUnder 10 Girls – (can not turn 10 in 2023): Parental assist optional\, Judging accordingly\nUnder 10 Boys – (can not turn 10 in 2023): Parental assist optional\, Judging accordingly\nUnder 12 Girls – (can not turn 12 in 2023).\nUnder 12 Boys – (can not turn 12 in 2023).\nUnder 14 Girls – (can not turn 14 in 2023).\nUnder 14 Boys – (can not turn 14 in 2023).\nUnder 16 Girls – (can not turn 16 in 2023).\nUnder 16 Boys – (can not turn 16 in 2023).\nUnder 18 Girls – (can not turn 18 in 2023)\nUnder 18 Boys – (can not turn 18 in 2023) \n* PLEASE NOTE: Entries will close one week from the opening date. \nEntries Open: Thursday 2nd February 2023 @5:00pm \nEntries Close: Tuesday 7th February 2023 @ 5:00pm \n* All competitors must enter the waitlist. Confirmation of your spot will be sent out one week after entries close. \nSelection Process: \nSeeding for the Billabong Oz Grom Cup 2023 will be determined by the Junior Handbook selection criteria (found on Page 10). – https://assets.surfinginaustralia.com/wp-content/uploads/sites/6/2023/01/16103344/SA_National_Rankings_23_V01.pdf \nPriority Rules: \n4-man priority will be utilised for both U18’s and U16’s divisions\nInformation and rules for priority  –  Surfing Australia 2022 Rulebook \nFAQS: \nthe site will not let you enter if you are not in the correct age division as per the specified times above\n*all entries are taken through Surfing NSW. \n*IF YOU ARE A PARENT BOOKING ON BEHALF OF YOUR CHILD CLICK “BOOK AS FAMILY” AND SELECT EACH CHILD INDIVIDUALLY\, ADDING EACH ONE SEPARATELY TO YOUR CART \nContact: \nFor further information please do not hesitate to contact Surfing NSW on (02) 9093 6035 or events@surfingnsw.com.au or info@surfingnsw.com.au \nRefunds: \nRefunds will not be given within 14 days of the event start date.\nAll refunds required will cost a $10.00 administration fee.
URL:https://coffsharbourboardriders.com.au/event/oz-grom-2/
CATEGORIES:Other
ATTACH;FMTTYPE=image/jpeg:https://coffsharbourboardriders.com.au/wp-content/uploads/2018/12/OZgrom-1.jpg
END:VEVENT
END:VCALENDAR