BEGIN:VCALENDAR
VERSION:2.0
PRODID:-//Coffs Harbour Board Riders - ECPv6.13.2.1//NONSGML v1.0//EN
CALSCALE:GREGORIAN
METHOD:PUBLISH
X-WR-CALNAME:Coffs Harbour Board Riders
X-ORIGINAL-URL:https://coffsharbourboardriders.com.au
X-WR-CALDESC:Events for Coffs Harbour Board Riders
REFRESH-INTERVAL;VALUE=DURATION:PT1H
X-Robots-Tag:noindex
X-PUBLISHED-TTL:PT1H
BEGIN:VTIMEZONE
TZID:Australia/Sydney
BEGIN:STANDARD
TZOFFSETFROM:+1100
TZOFFSETTO:+1000
TZNAME:AEST
DTSTART:20240406T160000
END:STANDARD
BEGIN:DAYLIGHT
TZOFFSETFROM:+1000
TZOFFSETTO:+1100
TZNAME:AEDT
DTSTART:20241005T160000
END:DAYLIGHT
END:VTIMEZONE
BEGIN:VEVENT
DTSTART;VALUE=DATE:20240323
DTEND;VALUE=DATE:20240324
DTSTAMP:20260425T011639
CREATED:20181205T021244Z
LAST-MODIFIED:20240131T224314Z
UID:6610-1711152000-1711238399@coffsharbourboardriders.com.au
SUMMARY:Club Challenge Day - With after party
DESCRIPTION:Regarded as the best comp of the year\, make sure you don’t miss out\, this event is free to CHBC members.\nIt’s brings us great pleasure to announce the 4th annual “Club Challenge Day” is on Saturday the 23rd of March \nWe have heaps of great prizes this year and really look forward to this much anticipated event. If you have never been in one before the format is completely different.\nEvery surfer gets put into a draw where a 5 year old could be up against SECRET GUEST\, Emil Burton and Rosie Smart in one heat. Once all the first round is done the top two go in round A and the bottom 2 in round B and these divisions surf off until there is a winner in each division. (Format is subject to change depending on entry numbers) \n*Awesome prizes to be won \n*Special guests? \nStay Tuned For More Information
URL:https://coffsharbourboardriders.com.au/event/club-champion-day-with-after-party-at-the-moonee-tavern-free-kids-activities-2/
CATEGORIES:Comp
ATTACH;FMTTYPE=image/png:https://coffsharbourboardriders.com.au/wp-content/uploads/2023/03/VAUGHAN.png
END:VEVENT
END:VCALENDAR