BEGIN:VCALENDAR
VERSION:2.0
PRODID:-//Coffs Harbour Board Riders - ECPv6.13.2.1//NONSGML v1.0//EN
CALSCALE:GREGORIAN
METHOD:PUBLISH
X-WR-CALNAME:Coffs Harbour Board Riders
X-ORIGINAL-URL:https://coffsharbourboardriders.com.au
X-WR-CALDESC:Events for Coffs Harbour Board Riders
REFRESH-INTERVAL;VALUE=DURATION:PT1H
X-Robots-Tag:noindex
X-PUBLISHED-TTL:PT1H
BEGIN:VTIMEZONE
TZID:Australia/Sydney
BEGIN:STANDARD
TZOFFSETFROM:+1100
TZOFFSETTO:+1000
TZNAME:AEST
DTSTART:20250405T160000
END:STANDARD
BEGIN:DAYLIGHT
TZOFFSETFROM:+1000
TZOFFSETTO:+1100
TZNAME:AEDT
DTSTART:20251004T160000
END:DAYLIGHT
END:VTIMEZONE
BEGIN:VEVENT
DTSTART;VALUE=DATE:20250824
DTEND;VALUE=DATE:20250825
DTSTAMP:20260425T133853
CREATED:20250117T060524Z
LAST-MODIFIED:20250117T060524Z
UID:11262-1755993600-1756079999@coffsharbourboardriders.com.au
SUMMARY:CHBC Comp 6
DESCRIPTION:ENTRY CUT OFF IS STRICTLY 6PM THE FRIDAY PRIOR TO THE COMP\n\n\n\nNo Beach Entries\n\nYou can click here and enter via LiveHeats\n\n\nIf absent after registering to compete\, failure to notify the comp director before 3pm the day prior to competition may result in a 1000 pt deduction from end of year points total.\nPlease let Klausy know 0434 775 600 (by text please) \n\n\nFaceBook on the morning\, the call is made at 6.30am on the morning of the comp if not before.
URL:https://coffsharbourboardriders.com.au/event/chbr-comp-11-2-3-3-2-2-2/
LOCATION:Digger’s Beach\, Macauley’s\, Park Beach or Gallows – Please note by 6.30am we will put on our FaceBook page where the events is.
CATEGORIES:Comp
ATTACH;FMTTYPE=image/jpeg:https://coffsharbourboardriders.com.au/wp-content/uploads/2019/03/ClubComp.jpg
END:VEVENT
END:VCALENDAR