BEGIN:VCALENDAR
VERSION:2.0
PRODID:-//Coffs Harbour Board Riders - ECPv6.13.2.1//NONSGML v1.0//EN
CALSCALE:GREGORIAN
METHOD:PUBLISH
X-ORIGINAL-URL:https://coffsharbourboardriders.com.au
X-WR-CALDESC:Events for Coffs Harbour Board Riders
REFRESH-INTERVAL;VALUE=DURATION:PT1H
X-Robots-Tag:noindex
X-PUBLISHED-TTL:PT1H
BEGIN:VTIMEZONE
TZID:Australia/Sydney
BEGIN:STANDARD
TZOFFSETFROM:+1100
TZOFFSETTO:+1000
TZNAME:AEST
DTSTART:20190406T160000
END:STANDARD
BEGIN:DAYLIGHT
TZOFFSETFROM:+1000
TZOFFSETTO:+1100
TZNAME:AEDT
DTSTART:20191005T160000
END:DAYLIGHT
END:VTIMEZONE
BEGIN:VEVENT
DTSTART;VALUE=DATE:20190825
DTEND;VALUE=DATE:20190826
DTSTAMP:20260425T093608
CREATED:20190325T025817Z
LAST-MODIFIED:20190325T025817Z
UID:6858-1566691200-1566777599@coffsharbourboardriders.com.au
SUMMARY:CHBC Comp 8
DESCRIPTION:
URL:https://coffsharbourboardriders.com.au/event/comp-3-2-2-2-2-2/
LOCATION:Digger’s Beach\, Macauley’s\, Park Beach or Gallows – Please note by 6.30am we will put on our FaceBook page where the events is.
CATEGORIES:Comp
END:VEVENT
BEGIN:VEVENT
DTSTART;VALUE=DATE:20190829
DTEND;VALUE=DATE:20190902
DTSTAMP:20260425T093608
CREATED:20180319T051515Z
LAST-MODIFIED:20190123T004306Z
UID:298-1567036800-1567382399@coffsharbourboardriders.com.au
SUMMARY:2019 Billabong Parko's Grom Stomp
DESCRIPTION:For more click here – https://au.billabong.com/mens/blog/events
URL:https://coffsharbourboardriders.com.au/event/2018-billabong-parkos-grom-stomp/
CATEGORIES:Other
END:VEVENT
END:VCALENDAR