BEGIN:VCALENDAR
VERSION:2.0
PRODID:-//Coffs Harbour Board Riders - ECPv6.13.2.1//NONSGML v1.0//EN
CALSCALE:GREGORIAN
METHOD:PUBLISH
X-WR-CALNAME:Coffs Harbour Board Riders
X-ORIGINAL-URL:https://coffsharbourboardriders.com.au
X-WR-CALDESC:Events for Coffs Harbour Board Riders
REFRESH-INTERVAL;VALUE=DURATION:PT1H
X-Robots-Tag:noindex
X-PUBLISHED-TTL:PT1H
BEGIN:VTIMEZONE
TZID:Australia/Sydney
BEGIN:STANDARD
TZOFFSETFROM:+1100
TZOFFSETTO:+1000
TZNAME:AEST
DTSTART:20190406T160000
END:STANDARD
BEGIN:DAYLIGHT
TZOFFSETFROM:+1000
TZOFFSETTO:+1100
TZNAME:AEDT
DTSTART:20191005T160000
END:DAYLIGHT
BEGIN:STANDARD
TZOFFSETFROM:+1100
TZOFFSETTO:+1000
TZNAME:AEST
DTSTART:20200404T160000
END:STANDARD
BEGIN:DAYLIGHT
TZOFFSETFROM:+1000
TZOFFSETTO:+1100
TZNAME:AEDT
DTSTART:20201003T160000
END:DAYLIGHT
BEGIN:STANDARD
TZOFFSETFROM:+1100
TZOFFSETTO:+1000
TZNAME:AEST
DTSTART:20210403T160000
END:STANDARD
BEGIN:DAYLIGHT
TZOFFSETFROM:+1000
TZOFFSETTO:+1100
TZNAME:AEDT
DTSTART:20211002T160000
END:DAYLIGHT
END:VTIMEZONE
BEGIN:VEVENT
DTSTART;VALUE=DATE:20211107
DTEND;VALUE=DATE:20211108
DTSTAMP:20260425T211013
CREATED:20210307T220646Z
LAST-MODIFIED:20210307T220646Z
UID:7917-1636243200-1636329599@coffsharbourboardriders.com.au
SUMMARY:CHBC Comp 9
DESCRIPTION:Please stay tuned to for more information as you will need to sign on in LiveHeats for this event. \nFaceBook on the morning\, the call is made at 6.30am on the morning of the comp. \n 
URL:https://coffsharbourboardriders.com.au/event/comp-3-2-2-2-3-2-2/
LOCATION:Digger’s Beach\, Macauley’s\, Park Beach or Gallows – Please note by 6.30am we will put on our FaceBook page where the events is.
CATEGORIES:Comp
END:VEVENT
BEGIN:VEVENT
DTSTART;VALUE=DATE:20211013
DTEND;VALUE=DATE:20211019
DTSTAMP:20260425T211013
CREATED:20210601T004640Z
LAST-MODIFIED:20210818T090320Z
UID:8102-1634083200-1634601599@coffsharbourboardriders.com.au
SUMMARY:Woolworths Surfer Grom Comp
DESCRIPTION:
URL:https://coffsharbourboardriders.com.au/event/2018-billabong-parkos-grom-stomp-2-3/
CATEGORIES:Other
END:VEVENT
BEGIN:VEVENT
DTSTART;VALUE=DATE:20210921
DTEND;VALUE=DATE:20210925
DTSTAMP:20260425T211013
CREATED:20210307T215416Z
LAST-MODIFIED:20210307T215416Z
UID:7913-1632182400-1632527999@coffsharbourboardriders.com.au
SUMMARY:BL BLAST OFF
DESCRIPTION:For more info head over to the event website.
URL:https://coffsharbourboardriders.com.au/event/bl-blast-off/
END:VEVENT
BEGIN:VEVENT
DTSTART;VALUE=DATE:20210919
DTEND;VALUE=DATE:20210920
DTSTAMP:20260425T211013
CREATED:20210307T214928Z
LAST-MODIFIED:20210914T223009Z
UID:7908-1632009600-1632095999@coffsharbourboardriders.com.au
SUMMARY:CHBC Comp 7 has been cancelled
DESCRIPTION:
URL:https://coffsharbourboardriders.com.au/event/comp-3-2-2-2-3-2/
LOCATION:Digger’s Beach\, Macauley’s\, Park Beach or Gallows – Please note by 6.30am we will put on our FaceBook page where the events is.
CATEGORIES:Comp
END:VEVENT
BEGIN:VEVENT
DTSTART;VALUE=DATE:20210714
DTEND;VALUE=DATE:20210720
DTSTAMP:20260425T211013
CREATED:20180319T050202Z
LAST-MODIFIED:20210307T214453Z
UID:292-1626220800-1626739199@coffsharbourboardriders.com.au
SUMMARY:NSW Junior State Titles
DESCRIPTION:More info to come\, best bet to check out https://surfingaustralia.com/events/?summary=all
URL:https://coffsharbourboardriders.com.au/event/junior-titles/
CATEGORIES:Other
END:VEVENT
BEGIN:VEVENT
DTSTART;VALUE=DATE:20210418
DTEND;VALUE=DATE:20210419
DTSTAMP:20260425T211013
CREATED:20210113T025129Z
LAST-MODIFIED:20210113T025554Z
UID:7705-1618704000-1618790399@coffsharbourboardriders.com.au
SUMMARY:CHBC Comp 3
DESCRIPTION:Please stay tuned to for more information as you will need to sign on in LiveHeats for this event. \nFaceBook on the morning\, the call is made at 6.30am on the morning of the comp. \n 
URL:https://coffsharbourboardriders.com.au/event/chbr-comp-11-2-2-2/
LOCATION:Digger’s Beach\, Macauley’s\, Park Beach or Gallows – Please note by 6.30am we will put on our FaceBook page where the events is.
CATEGORIES:Comp
END:VEVENT
BEGIN:VEVENT
DTSTART;VALUE=DATE:20210307
DTEND;VALUE=DATE:20210308
DTSTAMP:20260425T211013
CREATED:20210113T022833Z
LAST-MODIFIED:20210113T022833Z
UID:7703-1615075200-1615161599@coffsharbourboardriders.com.au
SUMMARY:CHBC Comp 2
DESCRIPTION:Please stay tuned to for more information as you will need to sign on in LiveHeats for this event. \nFaceBook on the morning\, the call is made at 6.30am on the morning of the comp. \n 
URL:https://coffsharbourboardriders.com.au/event/chbr-comp-11-2-2/
LOCATION:Digger’s Beach\, Macauley’s\, Park Beach or Gallows – Please note by 6.30am we will put on our FaceBook page where the events is.
CATEGORIES:Comp
END:VEVENT
BEGIN:VEVENT
DTSTART;TZID=Australia/Sydney:20210226T180000
DTEND;TZID=Australia/Sydney:20210226T193000
DTSTAMP:20260425T211013
CREATED:20191210T005019Z
LAST-MODIFIED:20210222T034040Z
UID:7057-1614362400-1614367800@coffsharbourboardriders.com.au
SUMMARY:Judging Training Night with Pete Lancaster at 6pm
DESCRIPTION:Judging training night with Pete Lancaster at 6pm – Park Beach Bowling Club\nPlease ask reception and they will direct you to the meeting room. \nPete will go through and help everyone to get the most out of judging  a heat. This is recommended for everyone involved in the club.\nSurfers and parents alike. \nWe encourage everyone to attend!!
URL:https://coffsharbourboardriders.com.au/event/basic-judging-training-pete-lancaster-6pm-clubhouse-2-2/
LOCATION:Park Beach Bowling Club\, 60 Ocean Parade\, Coffs Harbour\, NSW\, 2450
CATEGORIES:Comp
ATTACH;FMTTYPE=image/jpeg:https://coffsharbourboardriders.com.au/wp-content/uploads/2019/12/Banner_LiveHeats-1280x600-1.jpg
END:VEVENT
BEGIN:VEVENT
DTSTART;VALUE=DATE:20201117
DTEND;VALUE=DATE:20201118
DTSTAMP:20260425T211013
CREATED:20200701T220749Z
LAST-MODIFIED:20200701T220749Z
UID:7352-1605571200-1605657599@coffsharbourboardriders.com.au
SUMMARY:CHBC AGM
DESCRIPTION:Come down to the Coffs Harbour Boardriders Club House for the annual AGM from 6pm
URL:https://coffsharbourboardriders.com.au/event/sign-day-clubhouse-official-opening-2-2/
LOCATION:Coffs Harbour Boardriders Club House\, 5/5 Druitt Court\, Coffs Harbour\, New South Wales\, 2450\, Australia
CATEGORIES:Other
END:VEVENT
BEGIN:VEVENT
DTSTART;VALUE=DATE:20200805
DTEND;VALUE=DATE:20200813
DTSTAMP:20260425T211013
CREATED:20181220T052503Z
LAST-MODIFIED:20200706T045231Z
UID:6688-1596585600-1597276799@coffsharbourboardriders.com.au
SUMMARY:WOOLWORTHS JUNIOR STATE TITLES PRES. BY OCEAN AND EARTH
DESCRIPTION:Over 350 competitors will call Coffs Harbour home when the Woolworths NSW Junior State Titles pres. by Ocean and Earth kicks off. \nThe event will see some of NSW’s best junior surfers competing for a coveted state title when the event kicks off from the 5th – 12th August 2020. \nUnlike previous years\, where all qualifiers for the Woolworths NSW Junior State Titles pres. by Ocean and Earth were determined by eight individual regional titles\, the 2020 event will invite all junior competitors to enter in their respective age divisions. \nThe last two days of the event will comprise of the NSW School Surfing Titles. \n2019 will be the ninth year Surfing NSW will combine the NSW School Surfing Titles into the event. \nCompetitors will be vying for an NSW Junior Title and in turn\, earn their position into the upcoming 2020 Australian Junior Surfing Titles\, which will take place in Queensland at the end of the year. \nFormer competitors in the NSW Junior State Titles pres. by Ocean and Earth include current World Surf League (WSL) Championship Tour (CT) surfers Owen\, Mikey and Tyler Wright\, Sally Fitzgibbons\, Matt Wilkinson\, Wade Carmichael and Connor O’Leary. \nThe event will be fully mobile in the Coffs Harbour area with Macauleys\, Park Beach\, Diggers\, Gallows and Sawtell all venue options. \nThe daily schedule and location will be confirmed via the event hotline at 6:45am each day. The event hotline is 0458 247 212. \nThe Woolworths NSW Junior Titles pres. by Ocean and Earth will be proudly supported by Woolworths\, Ocean and Earth\, Coffs Harbour City Council\, Mothernest\, Reflections Holiday Park and Surfing NSW.
URL:https://coffsharbourboardriders.com.au/event/oz-grom-2-2/
CATEGORIES:Other
END:VEVENT
BEGIN:VEVENT
DTSTART;VALUE=DATE:20200802
DTEND;VALUE=DATE:20200803
DTSTAMP:20260425T211013
CREATED:20190122T224116Z
LAST-MODIFIED:20200727T001842Z
UID:6696-1596326400-1596412799@coffsharbourboardriders.com.au
SUMMARY:CHBC Comp 3
DESCRIPTION:CHBC Comp 3 August 2nd Sign On Now Via Live Heats\nENTRY CUT OFF IS STRICTLY 7PM Thursday July 30th \nNo Beach Enteries \nRunning schedule for the day will be posted on socials and emailed Saturday 1st by 6pm \n\nGo to\nwww.liveheats.com/chbc\n\nClick “Register now” on the CHBC Comp 2 event\nCreate a LiveHeats account (or login with your existing account)\nEnter athlete details\, and add additional athletes if required (e.g. a parent)\nClick confirm to complete your registrationENTRY CUT OFF IS STRICTLY 7PM Thursday July 16THWith new covid requirements comp 2 will be run a little different as per below\n1. Each division will run straight through from heat 1 to final followed by division presentation at the beach. \n2. We will be running 2 banks on the day. \n3. Comp will start at 7am sharp first divisions required to be at the beach are 16 Boys\, Open Womens\, 35’s & Open B\nfor all other divisions\, times will be posted on socials and emailed Saturday 18th by 6pm \n4. The format of the day is a standard knock out. No repechage for all divisions. \nWE NEED JUDGES…\n\nPlease notify us asap if you can please volunteer your time between 7am and 9am so we can get the comp underway on time\, we require help in 1 hour blocks to help minimise over crowding and help maintain social distancing as required with the new covid safety plan. \nPlease note that all beaches except Gallows are not dog friendly. \nPARTICIPANTS AND SPECTATORS \n– Download the COVIDsafe app \n– Arrive\, surf\, leave \n– Do not attend if you are sick or have flu like symptoms \n– Spectators to maintain 1.5 m physical distancing \n– Avoid touching your eyes mouth and nose \n– Do not share equipment drink bottles or food \n– Exit the facility promptly once finished \n– Record your name and contact details at the BBQ or beach marshal if you are a non surfer\n\n\n\n\n\n\n\n\n\n\n\n\n\n\n\n\n\nPlease click here to download the CHBC Covid-19 Safety Plan
URL:https://coffsharbourboardriders.com.au/event/comp-3-2/
LOCATION:Digger’s Beach\, Macauley’s\, Park Beach or Gallows – Please note by 6.30am we will put on our FaceBook page where the events is.
CATEGORIES:Comp
END:VEVENT
BEGIN:VEVENT
DTSTART;VALUE=DATE:20200719
DTEND;VALUE=DATE:20200720
DTSTAMP:20260425T211013
CREATED:20190107T030052Z
LAST-MODIFIED:20200709T000759Z
UID:234-1595116800-1595203199@coffsharbourboardriders.com.au
SUMMARY:CHBC Comp 2
DESCRIPTION:Enter now online for comp 2 please note no beach entries with new covid-19 requirements\n\nGo to\nwww.liveheats.com/chbc\n\nClick “Register now” on the CHBC Comp 2 event\nCreate a LiveHeats account (or login with your existing account)\nEnter athlete details\, and add additional athletes if required (e.g. a parent)\nClick confirm to complete your registrationENTRY CUT OFF IS STRICTLY 7PM Thursday July 16TH\nWith new covid requirements comp 2 will be run a little different as per below \n1. Each division will run straight through from heat 1 to final followed by division presentation at the beach. \n2. We will be running 2 banks on the day. \n3. Comp will start at 7am sharp first divisions required to be at the beach are 16 Boys\, Open Womens\, 35’s & Open B\nfor all other divisions\, times will be posted on socials and emailed Saturday 18th by 6pm \n4. The format of the day is a standard knock out. No repechage for all divisions. \nWe are asking for volunteers to please contact us asap if you are available to help out on the day for an hour block of Judging or tallying\, this will help minimise over crowding and help maintain social distancing as required with the new covid safety plan – Download the COVIDsafe app– Do not attend if you are sick or have flu like symptoms– Avoid touching your eyes mouth and nose– Exit the facility promptly once finished \n– Record your name and contact details at the BBQ or beach marshal if you are a non surfer\n– Do not share equipment drink bottles or food\n– Spectators to maintain 1.5 m physical distancing\n– Arrive\, surf\, leave\nPARTICIPANTS AND SPECTATORS\n\n\n\n\n\n\n\n\n\n\n\n\n\n\n\n\n\nPlease click here to download the CHBC Covid-19 Safety Plan
URL:https://coffsharbourboardriders.com.au/event/comp-3/
LOCATION:Digger’s Beach\, Macauley’s\, Park Beach or Gallows – Please note by 6.30am we will put on our FaceBook page where the events is.
CATEGORIES:Comp
END:VEVENT
BEGIN:VEVENT
DTSTART;VALUE=DATE:20200228
DTEND;VALUE=DATE:20200229
DTSTAMP:20260425T211013
CREATED:20191210T004536Z
LAST-MODIFIED:20200207T003116Z
UID:7054-1582848000-1582934399@coffsharbourboardriders.com.au
SUMMARY:Senior Judging Training Night with Pete Lancaster at 6pm – Clubhouse!
DESCRIPTION:Senior Judging training with Pete Lancaster at 6pm – Clubhouse! We encourage everyone over 18 to attend!!
URL:https://coffsharbourboardriders.com.au/event/basic-judging-training-pete-lancaster-6pm-clubhouse-2/
CATEGORIES:Comp
END:VEVENT
BEGIN:VEVENT
DTSTART;VALUE=DATE:20191216
DTEND;VALUE=DATE:20191221
DTSTAMP:20260425T211013
CREATED:20190325T032838Z
LAST-MODIFIED:20190325T032838Z
UID:6868-1576454400-1576886399@coffsharbourboardriders.com.au
SUMMARY:Rip Curl Grom Search - Sunshine Coast
DESCRIPTION:
URL:https://coffsharbourboardriders.com.au/event/2018-billabong-parkos-grom-stomp-2-2-2/
CATEGORIES:Other
END:VEVENT
BEGIN:VEVENT
DTSTART;VALUE=DATE:20191214
DTEND;VALUE=DATE:20191216
DTSTAMP:20260425T211013
CREATED:20190325T032706Z
LAST-MODIFIED:20190325T032706Z
UID:6866-1576281600-1576454399@coffsharbourboardriders.com.au
SUMMARY:Woolworths Surfer Groms - Sunshine Coast
DESCRIPTION:
URL:https://coffsharbourboardriders.com.au/event/2018-billabong-parkos-grom-stomp-2-2/
CATEGORIES:Other
END:VEVENT
BEGIN:VEVENT
DTSTART;VALUE=DATE:20191110
DTEND;VALUE=DATE:20191111
DTSTAMP:20260425T211013
CREATED:20180319T052407Z
LAST-MODIFIED:20190325T032506Z
UID:312-1573344000-1573430399@coffsharbourboardriders.com.au
SUMMARY:CHBC Comp 10
DESCRIPTION:
URL:https://coffsharbourboardriders.com.au/event/chbr-comp-11/
LOCATION:Digger’s Beach\, Macauley’s\, Park Beach or Gallows – Please note by 6.30am we will put on our FaceBook page where the events is.
CATEGORIES:Comp
END:VEVENT
BEGIN:VEVENT
DTSTART;VALUE=DATE:20191011
DTEND;VALUE=DATE:20191013
DTSTAMP:20260425T211013
CREATED:20190325T030030Z
LAST-MODIFIED:20190325T030030Z
UID:6860-1570752000-1570924799@coffsharbourboardriders.com.au
SUMMARY:Woolworths Surfer Groms
DESCRIPTION:
URL:https://coffsharbourboardriders.com.au/event/2018-billabong-parkos-grom-stomp-2/
CATEGORIES:Other
END:VEVENT
BEGIN:VEVENT
DTSTART;VALUE=DATE:20190908
DTEND;VALUE=DATE:20190909
DTSTAMP:20260425T211013
CREATED:20190710T221638Z
LAST-MODIFIED:20190710T221638Z
UID:6909-1567900800-1567987199@coffsharbourboardriders.com.au
SUMMARY:CHBC Comp (Make up comp)
DESCRIPTION:
URL:https://coffsharbourboardriders.com.au/event/chbr-comp-11-3/
LOCATION:Digger’s Beach\, Macauley’s\, Park Beach or Gallows – Please note by 6.30am we will put on our FaceBook page where the events is.
CATEGORIES:Comp
END:VEVENT
BEGIN:VEVENT
DTSTART;VALUE=DATE:20190829
DTEND;VALUE=DATE:20190902
DTSTAMP:20260425T211013
CREATED:20180319T051515Z
LAST-MODIFIED:20190123T004306Z
UID:298-1567036800-1567382399@coffsharbourboardriders.com.au
SUMMARY:2019 Billabong Parko's Grom Stomp
DESCRIPTION:For more click here – https://au.billabong.com/mens/blog/events
URL:https://coffsharbourboardriders.com.au/event/2018-billabong-parkos-grom-stomp/
CATEGORIES:Other
END:VEVENT
BEGIN:VEVENT
DTSTART;VALUE=DATE:20190825
DTEND;VALUE=DATE:20190826
DTSTAMP:20260425T211013
CREATED:20190325T025817Z
LAST-MODIFIED:20190325T025817Z
UID:6858-1566691200-1566777599@coffsharbourboardriders.com.au
SUMMARY:CHBC Comp 8
DESCRIPTION:
URL:https://coffsharbourboardriders.com.au/event/comp-3-2-2-2-2-2/
LOCATION:Digger’s Beach\, Macauley’s\, Park Beach or Gallows – Please note by 6.30am we will put on our FaceBook page where the events is.
CATEGORIES:Comp
END:VEVENT
BEGIN:VEVENT
DTSTART;VALUE=DATE:20190726
DTEND;VALUE=DATE:20190729
DTSTAMP:20260425T211013
CREATED:20180507T012811Z
LAST-MODIFIED:20190325T025539Z
UID:6206-1564099200-1564358399@coffsharbourboardriders.com.au
SUMMARY:Havaianas NSW Grommet State Titles Maroubra Beach
DESCRIPTION:108 of the States best groms will be competing in the Havianas NSW Grommet state titles being held on Maroubra beach. Each competitor has qualified from their respective regions for their spot in the competition. \nFor more click here.
URL:https://coffsharbourboardriders.com.au/event/havaianas-nsw-grommet-state-titles-2018/
END:VEVENT
BEGIN:VEVENT
DTSTART;VALUE=DATE:20190724
DTEND;VALUE=DATE:20190727
DTSTAMP:20260425T211013
CREATED:20190325T025401Z
LAST-MODIFIED:20190325T025401Z
UID:6852-1563926400-1564185599@coffsharbourboardriders.com.au
SUMMARY:O&E NSW High School State Titles Coffs Harbour
DESCRIPTION:Event Location \nThe event will be fully mobile in the Coffs Harbour area with Macauleys\, Park beach and Diggers all venue options. \n 
URL:https://coffsharbourboardriders.com.au/event/junior-titles-2/
CATEGORIES:Other
END:VEVENT
BEGIN:VEVENT
DTSTART;VALUE=DATE:20190706
DTEND;VALUE=DATE:20190708
DTSTAMP:20260425T211013
CREATED:20180322T004054Z
LAST-MODIFIED:20190325T024452Z
UID:6028-1562371200-1562543999@coffsharbourboardriders.com.au
SUMMARY:Naru Surf Gathering
DESCRIPTION:
URL:https://coffsharbourboardriders.com.au/event/naru-surf-gathering/
CATEGORIES:Other
END:VEVENT
BEGIN:VEVENT
DTSTART;VALUE=DATE:20190322
DTEND;VALUE=DATE:20190323
DTSTAMP:20260425T211013
CREATED:20180329T023144Z
LAST-MODIFIED:20190227T022624Z
UID:6058-1553212800-1553299199@coffsharbourboardriders.com.au
SUMMARY:Basic Judging training with Pete Lancaster at 6pm – Clubhouse!
DESCRIPTION:Basic Judging training with Pete Lancaster at 6pm – Clubhouse! We encourage parents\, kids\, everyone to attend!!
URL:https://coffsharbourboardriders.com.au/event/basic-judging-training-pete-lancaster-6pm-clubhouse/
CATEGORIES:Comp
END:VEVENT
END:VCALENDAR