BEGIN:VCALENDAR
VERSION:2.0
PRODID:-//Coffs Harbour Board Riders - ECPv6.13.2.1//NONSGML v1.0//EN
CALSCALE:GREGORIAN
METHOD:PUBLISH
X-ORIGINAL-URL:https://coffsharbourboardriders.com.au
X-WR-CALDESC:Events for Coffs Harbour Board Riders
REFRESH-INTERVAL;VALUE=DURATION:PT1H
X-Robots-Tag:noindex
X-PUBLISHED-TTL:PT1H
BEGIN:VTIMEZONE
TZID:Australia/Sydney
BEGIN:STANDARD
TZOFFSETFROM:+1100
TZOFFSETTO:+1000
TZNAME:AEST
DTSTART:20250405T160000
END:STANDARD
BEGIN:DAYLIGHT
TZOFFSETFROM:+1000
TZOFFSETTO:+1100
TZNAME:AEDT
DTSTART:20251004T160000
END:DAYLIGHT
BEGIN:STANDARD
TZOFFSETFROM:+1100
TZOFFSETTO:+1000
TZNAME:AEST
DTSTART:20260404T160000
END:STANDARD
BEGIN:DAYLIGHT
TZOFFSETFROM:+1000
TZOFFSETTO:+1100
TZNAME:AEDT
DTSTART:20261003T160000
END:DAYLIGHT
END:VTIMEZONE
BEGIN:VEVENT
DTSTART;VALUE=DATE:20251003
DTEND;VALUE=DATE:20251007
DTSTAMP:20260425T134136
CREATED:20250117T062702Z
LAST-MODIFIED:20250728T043138Z
UID:11266-1759449600-1759795199@coffsharbourboardriders.com.au
SUMMARY:CHBC Comp 7 Away Comp (Sunday 5th Comp Day)
DESCRIPTION:CHBC away camping comp 7 (Sunday 5th Comp Day)\nFor anyone that has not been away on our camping weekend it is a great weekend. We have a great catch and really get to bond as a club.\nThe goms can really be groms down there\, get dirty\, surf and best of all the is no phone reception. \nFor all those wishing to compete in the away competition and also get away with the club and make some great memories. \nComp Details – Sunday 5th is comp the comp day\nThe comp will be on the Sunday starting at around 7am\, We will try and notify the afternoon before where the comp is going to be. \n \nCamping Information\nWaves Camp Ground – Back road from crescent head\nWaves Campground\n954 Point Plomer Road\,\nDelicate Nobby\, Crescent Head\nNSW\, 2440\n65661044 \nYou can camp for as long as you want\, most people camp for a few days: \nFriday the 3rd of October – Monday 6th October \nIt is essential to contact waves camp ground and let them know you are apart of the Coffs Boardriders group.\nThey allocate an area for us and will help you make the booking.\nBook your site straight through them\, especially if you are using a caravan of some type.\nThis must be done sooner rather than later as you may miss out on a site\, they fill up pretty quick for that time of year. \nPEAK\nUNPOWERED\n$25/ $15\nper adult/per child \nFor more info and bookings please view the Waves Campground website.\nhttps://www.wavescampground.com/
URL:https://coffsharbourboardriders.com.au/event/chbc-comp-7-away-comp-sunday-5th-comp-day/
CATEGORIES:Comp
ATTACH;FMTTYPE=image/jpeg:https://coffsharbourboardriders.com.au/wp-content/uploads/2019/03/ClubComp.jpg
END:VEVENT
BEGIN:VEVENT
DTSTART;VALUE=DATE:20251102
DTEND;VALUE=DATE:20251103
DTSTAMP:20260425T134136
CREATED:20250117T060606Z
LAST-MODIFIED:20250117T060606Z
UID:11264-1762041600-1762127999@coffsharbourboardriders.com.au
SUMMARY:CHBC Comp 8
DESCRIPTION:ENTRY CUT OFF IS STRICTLY 6PM THE FRIDAY PRIOR TO THE COMP\n\n\n\nNo Beach Entries\n\nYou can click here and enter via LiveHeats\n\n\nIf absent after registering to compete\, failure to notify the comp director before 3pm the day prior to competition may result in a 1000 pt deduction from end of year points total.\nPlease let Klausy know 0434 775 600 (by text please) \n\n\nFaceBook on the morning\, the call is made at 6.30am on the morning of the comp if not before.
URL:https://coffsharbourboardriders.com.au/event/chbr-comp-11-2-3-3-2-2-2-2/
LOCATION:Digger’s Beach\, Macauley’s\, Park Beach or Gallows – Please note by 6.30am we will put on our FaceBook page where the events is.
CATEGORIES:Comp
ATTACH;FMTTYPE=image/jpeg:https://coffsharbourboardriders.com.au/wp-content/uploads/2019/03/ClubComp.jpg
END:VEVENT
BEGIN:VEVENT
DTSTART;VALUE=DATE:20251116
DTEND;VALUE=DATE:20251117
DTSTAMP:20260425T134136
CREATED:20240131T225705Z
LAST-MODIFIED:20251107T010626Z
UID:10173-1763251200-1763337599@coffsharbourboardriders.com.au
SUMMARY:CHBC Annual Golf Day
DESCRIPTION:The Hoey Moey Coffs Harbour Boardriders Annual Fundraiser Golf Day\nHoey Moey Coffs Harbour Board Riders Golf Day Registration Flyer 2025\nDOWNLOAD ENTRY FORM HERE\nIt’s on again for 2025\, Every dollar raised will be going straight back into the club. Your contribution plays a vital role in the success of the club and it’s surfers.\nWe have recently put in place an Elite Athlete Incentive Program so you can see what we are trying to do and how we are trying to assist the clubs up and coming surfers. \nThis initiative is designed to provide financial assistance to our top-performing athletes\, helping them pursue their dreams of competing at the highest level. Our club has a proud tradition of fostering surfing talent\, and this program is a testament to our commitment to seeing our members reach their full potential. \nIf you would like to donate anything to the golf day for prizes please get in contact with Bryn Goode on 0401 477 612. \nPlease stay tuned for the 2025 Coffs Harbour Boardriders Annual Fundraiser Golf Day. \n  \n 
URL:https://coffsharbourboardriders.com.au/event/golf-day-2-2/
CATEGORIES:Comp
ATTACH;FMTTYPE=image/jpeg:https://coffsharbourboardriders.com.au/wp-content/uploads/2022/11/IMG_3007.jpg
END:VEVENT
BEGIN:VEVENT
DTSTART;VALUE=DATE:20251129
DTEND;VALUE=DATE:20251130
DTSTAMP:20260425T134136
CREATED:20180319T052434Z
LAST-MODIFIED:20250930T082533Z
UID:314-1764374400-1764460799@coffsharbourboardriders.com.au
SUMMARY:CHBC End Of Year Presentation
DESCRIPTION:We will have more information soon. \nJust lock this away in your calendar. You don’t want to miss this one!
URL:https://coffsharbourboardriders.com.au/event/chbr-agm/
LOCATION:Hoey Moey\, 84 Ocean Parade\, Coffs Harbour\, New South Wales\, 2450\, Australia
CATEGORIES:Comp
ATTACH;FMTTYPE=image/jpeg:https://coffsharbourboardriders.com.au/wp-content/uploads/2024/12/FDE2A98F-37CE-498B-B6EF-68510F1A00FB_1_105_c.jpeg
END:VEVENT
BEGIN:VEVENT
DTSTART;VALUE=DATE:20260215
DTEND;VALUE=DATE:20260216
DTSTAMP:20260425T134136
CREATED:20260115T225251Z
LAST-MODIFIED:20260131T050154Z
UID:12501-1771113600-1771199999@coffsharbourboardriders.com.au
SUMMARY:Competition One
DESCRIPTION:
URL:https://coffsharbourboardriders.com.au/event/competition-one/
CATEGORIES:Comp
ATTACH;FMTTYPE=image/jpeg:https://coffsharbourboardriders.com.au/wp-content/uploads/2026/01/comp1169.jpg
END:VEVENT
BEGIN:VEVENT
DTSTART;VALUE=DATE:20260329
DTEND;VALUE=DATE:20260330
DTSTAMP:20260425T134136
CREATED:20260115T225339Z
LAST-MODIFIED:20260216T211821Z
UID:12503-1774742400-1774828799@coffsharbourboardriders.com.au
SUMMARY:Competition Two
DESCRIPTION:
URL:https://coffsharbourboardriders.com.au/event/competition-two/
CATEGORIES:Comp
END:VEVENT
BEGIN:VEVENT
DTSTART;VALUE=DATE:20260412
DTEND;VALUE=DATE:20260413
DTSTAMP:20260425T134136
CREATED:20260115T225444Z
LAST-MODIFIED:20260216T210528Z
UID:12507-1775952000-1776038399@coffsharbourboardriders.com.au
SUMMARY:Competition Three
DESCRIPTION:
URL:https://coffsharbourboardriders.com.au/event/competition-three/
CATEGORIES:Comp
END:VEVENT
BEGIN:VEVENT
DTSTART;VALUE=DATE:20260516
DTEND;VALUE=DATE:20260517
DTSTAMP:20260425T134136
CREATED:20260115T225416Z
LAST-MODIFIED:20260216T210034Z
UID:12505-1778889600-1778975999@coffsharbourboardriders.com.au
SUMMARY:Club Challenge
DESCRIPTION:
URL:https://coffsharbourboardriders.com.au/event/club-challenge/
CATEGORIES:Comp
END:VEVENT
BEGIN:VEVENT
DTSTART;VALUE=DATE:20260614
DTEND;VALUE=DATE:20260615
DTSTAMP:20260425T134136
CREATED:20260115T225512Z
LAST-MODIFIED:20260115T225512Z
UID:12509-1781395200-1781481599@coffsharbourboardriders.com.au
SUMMARY:Competition Four
DESCRIPTION:
URL:https://coffsharbourboardriders.com.au/event/competition-four/
CATEGORIES:Comp
END:VEVENT
BEGIN:VEVENT
DTSTART;VALUE=DATE:20260726
DTEND;VALUE=DATE:20260727
DTSTAMP:20260425T134136
CREATED:20260115T225535Z
LAST-MODIFIED:20260115T225535Z
UID:12511-1785024000-1785110399@coffsharbourboardriders.com.au
SUMMARY:Competition Five
DESCRIPTION:
URL:https://coffsharbourboardriders.com.au/event/competition-five/
CATEGORIES:Comp
END:VEVENT
BEGIN:VEVENT
DTSTART;VALUE=DATE:20260823
DTEND;VALUE=DATE:20260824
DTSTAMP:20260425T134136
CREATED:20260115T225557Z
LAST-MODIFIED:20260115T225810Z
UID:12513-1787443200-1787529599@coffsharbourboardriders.com.au
SUMMARY:Competition Six
DESCRIPTION:
URL:https://coffsharbourboardriders.com.au/event/competition-six/
CATEGORIES:Comp
END:VEVENT
BEGIN:VEVENT
DTSTART;VALUE=DATE:20261004
DTEND;VALUE=DATE:20261005
DTSTAMP:20260425T134136
CREATED:20260115T225634Z
LAST-MODIFIED:20260115T225634Z
UID:12515-1791072000-1791158399@coffsharbourboardriders.com.au
SUMMARY:Competition Seven (Away)
DESCRIPTION:
URL:https://coffsharbourboardriders.com.au/event/competition-seven-away/
CATEGORIES:Comp
END:VEVENT
BEGIN:VEVENT
DTSTART;VALUE=DATE:20261101
DTEND;VALUE=DATE:20261102
DTSTAMP:20260425T134136
CREATED:20260115T225701Z
LAST-MODIFIED:20260115T225701Z
UID:12517-1793491200-1793577599@coffsharbourboardriders.com.au
SUMMARY:Competition Eight
DESCRIPTION:
URL:https://coffsharbourboardriders.com.au/event/competition-eight/
CATEGORIES:Comp
END:VEVENT
END:VCALENDAR