BEGIN:VCALENDAR
VERSION:2.0
PRODID:-//Coffs Harbour Board Riders - ECPv4.9.13//NONSGML v1.0//EN
CALSCALE:GREGORIAN
METHOD:PUBLISH
X-WR-CALNAME:Coffs Harbour Board Riders
X-ORIGINAL-URL:https://coffsharbourboardriders.com.au
X-WR-CALDESC:Events for Coffs Harbour Board Riders
BEGIN:VTIMEZONE
TZID:Australia/Sydney
BEGIN:STANDARD
TZOFFSETFROM:+1100
TZOFFSETTO:+1000
TZNAME:AEST
DTSTART:20200404T160000
END:STANDARD
BEGIN:DAYLIGHT
TZOFFSETFROM:+1000
TZOFFSETTO:+1100
TZNAME:AEDT
DTSTART:20201003T160000
END:DAYLIGHT
END:VTIMEZONE
BEGIN:VEVENT
DTSTART;VALUE=DATE:20200301
DTEND;VALUE=DATE:20200302
DTSTAMP:20200301T084333
CREATED:20181205T014510Z
LAST-MODIFIED:20200207T003151Z
UID:6602-1583020800-1583107199@coffsharbourboardriders.com.au
SUMMARY:CHBC Comp 1
DESCRIPTION:Please stay tuned to FaceBook on the morning\, the call is made at 6.30am on the morning of the comp. \n
URL:https://coffsharbourboardriders.com.au/event/chbr-comp-11-2/
LOCATION:Digger’s Beach\, Macauley’s\, Park Beach or Gallows – Please note by 6.30am we will put on our FaceBook page where the events is.
CATEGORIES:Comp
END:VEVENT
BEGIN:VEVENT
DTSTART;VALUE=DATE:20200321
DTEND;VALUE=DATE:20200322
DTSTAMP:20200301T084333
CREATED:20181205T021244Z
LAST-MODIFIED:20200207T003900Z
UID:6610-1584748800-1584835199@coffsharbourboardriders.com.au
SUMMARY:Club Champion Day - With after party at the Moonee Tavern (free kids activities)
DESCRIPTION:Regarded as the best comp of the year\, make sure you don’t miss out\nIt’s brings us great pleasure to announce the 3rd annual “Club Challenge Day” is on Saturday the 21st of March.\nThis year we have a surfing superstar joining us on the day. More info to come. We have a family afternoon after the contest at the Moonee Tavern. \nWe have heaps of great prizes this year and really look forward to this much anticipated event. If you have never been in one before the format is completely different.\nEvery surfer gets put into a draw where a 5 year old could be up against SECRET GUEST\, Emil Burton and Rosie Smart in one heat. Once all the first round is done the top two go in round A and the bottom 2 in round B and these divisions surf off until there is a winner in each division. \nWe have a FREE bus service running from the Hoey Moey at 4pm out to the Moonee Tavern. Throughout the night a few busses will be doing drop offs through the night. We have entertainment on the night and heaps for the kids to do. Also the Moonee Tavern are offering a great special on pizza’s for all CHBC members and families. \nPlease note if you want to enter you have to do so by text message to comp director Ian Klaus on 0434 775 600. There will be no beach entries. Entries close on the 19th of March.\n  \n
URL:https://coffsharbourboardriders.com.au/event/club-champion-day-with-after-party-at-the-moonee-tavern-free-kids-activities-2/
LOCATION:Moonee Tavern\, 2 Moonee Beach Rd\, Moonee Beach\, NSW\, 2450\, Australia
CATEGORIES:Comp
END:VEVENT
BEGIN:VEVENT
DTSTART;VALUE=DATE:20200327
DTEND;VALUE=DATE:20200330
DTSTAMP:20200301T084333
CREATED:20181205T021504Z
LAST-MODIFIED:20191210T005244Z
UID:6613-1585267200-1585526399@coffsharbourboardriders.com.au
SUMMARY:Barney Miller Surf Classic
DESCRIPTION:Visit the website for more information – http://www.barneymillerclassic.org/ \nThis will be the 21st annual classic\, such a great comp!!!! Get involved. \n
URL:https://coffsharbourboardriders.com.au/event/barney-miller-classic-2/
CATEGORIES:Other
END:VEVENT
BEGIN:VEVENT
DTSTART;VALUE=DATE:20200413
DTEND;VALUE=DATE:20200418
DTSTAMP:20200301T084333
CREATED:20181205T021731Z
LAST-MODIFIED:20191210T005345Z
UID:6615-1586736000-1587167999@coffsharbourboardriders.com.au
SUMMARY:Billabong Oz Grom Cup 2020
DESCRIPTION:For more info please visit – http://ozgromcup.com.au/ \n \n
URL:https://coffsharbourboardriders.com.au/event/oz-grom-2/
CATEGORIES:Other
END:VEVENT
BEGIN:VEVENT
DTSTART;VALUE=DATE:20200424
DTEND;VALUE=DATE:20200425
DTSTAMP:20200301T084333
CREATED:20191210T005019Z
LAST-MODIFIED:20200207T045901Z
UID:7057-1587686400-1587772799@coffsharbourboardriders.com.au
SUMMARY:Junior Judging Training Night with Pete Lancaster at 6pm – Clubhouse!
DESCRIPTION:Junior Judging training with Pete Lancaster at 6pm – Clubhouse! We encourage all the parents to attend!! \n
URL:https://coffsharbourboardriders.com.au/event/basic-judging-training-pete-lancaster-6pm-clubhouse-2-2/
CATEGORIES:Comp
END:VEVENT
BEGIN:VEVENT
DTSTART;VALUE=DATE:20200426
DTEND;VALUE=DATE:20200427
DTSTAMP:20200301T084333
CREATED:20190107T030052Z
LAST-MODIFIED:20200207T003417Z
UID:234-1587859200-1587945599@coffsharbourboardriders.com.au
SUMMARY:CHBC Comp 2
DESCRIPTION:
URL:https://coffsharbourboardriders.com.au/event/comp-3/
LOCATION:Digger’s Beach\, Macauley’s\, Park Beach or Gallows – Please note by 6.30am we will put on our FaceBook page where the events is.
CATEGORIES:Comp
END:VEVENT
BEGIN:VEVENT
DTSTART;VALUE=DATE:20200522
DTEND;VALUE=DATE:20200525
DTSTAMP:20200301T084333
CREATED:20181220T052503Z
LAST-MODIFIED:20200112T211703Z
UID:6688-1590105600-1590364799@coffsharbourboardriders.com.au
SUMMARY:Ocean & Earth Far North Coast/North Coast Junior Regional Titles
DESCRIPTION:This is held at Lennox Head\, stay tuned for more details. \n
URL:https://coffsharbourboardriders.com.au/event/oz-grom-2-2/
CATEGORIES:Other
END:VEVENT
BEGIN:VEVENT
DTSTART;VALUE=DATE:20200531
DTEND;VALUE=DATE:20200601
DTSTAMP:20200301T084333
CREATED:20190122T224116Z
LAST-MODIFIED:20200207T003423Z
UID:6696-1590883200-1590969599@coffsharbourboardriders.com.au
SUMMARY:CHBC Comp 3
DESCRIPTION:
URL:https://coffsharbourboardriders.com.au/event/comp-3-2/
LOCATION:Digger’s Beach\, Macauley’s\, Park Beach or Gallows – Please note by 6.30am we will put on our FaceBook page where the events is.
CATEGORIES:Comp
END:VEVENT
BEGIN:VEVENT
DTSTART;VALUE=DATE:20200628
DTEND;VALUE=DATE:20200629
DTSTAMP:20200301T084333
CREATED:20190122T230506Z
LAST-MODIFIED:20200207T003429Z
UID:6700-1593302400-1593388799@coffsharbourboardriders.com.au
SUMMARY:CHBC Comp 4
DESCRIPTION:
URL:https://coffsharbourboardriders.com.au/event/comp-3-2-2/
LOCATION:Digger’s Beach\, Macauley’s\, Park Beach or Gallows – Please note by 6.30am we will put on our FaceBook page where the events is.
CATEGORIES:Comp
END:VEVENT
BEGIN:VEVENT
DTSTART;VALUE=DATE:20200802
DTEND;VALUE=DATE:20200803
DTSTAMP:20200301T084333
CREATED:20190123T003719Z
LAST-MODIFIED:20200207T003434Z
UID:6706-1596326400-1596412799@coffsharbourboardriders.com.au
SUMMARY:CHBC Comp 5
DESCRIPTION:
URL:https://coffsharbourboardriders.com.au/event/comp-3-2-2-2/
LOCATION:Digger’s Beach\, Macauley’s\, Park Beach or Gallows – Please note by 6.30am we will put on our FaceBook page where the events is.
CATEGORIES:Comp
END:VEVENT
BEGIN:VEVENT
DTSTART;VALUE=DATE:20200823
DTEND;VALUE=DATE:20200824
DTSTAMP:20200301T084333
CREATED:20190325T025730Z
LAST-MODIFIED:20200207T003443Z
UID:6856-1598140800-1598227199@coffsharbourboardriders.com.au
SUMMARY:CHBC Comp 6
DESCRIPTION:
URL:https://coffsharbourboardriders.com.au/event/comp-3-2-2-2-2/
LOCATION:Digger’s Beach\, Macauley’s\, Park Beach or Gallows – Please note by 6.30am we will put on our FaceBook page where the events is.
CATEGORIES:Comp
END:VEVENT
BEGIN:VEVENT
DTSTART;VALUE=DATE:20201108
DTEND;VALUE=DATE:20201109
DTSTAMP:20200301T084333
CREATED:20200109T004816Z
LAST-MODIFIED:20200109T004816Z
UID:6863-1604793600-1604879999@coffsharbourboardriders.com.au
SUMMARY:CHBC Annual Golf Day
DESCRIPTION:Stay tuned for more information\nIf you have any items to donate for the auction please contact Aaron on the below: \nAaron Martin\nCHBC Sponsorship \naaron.p.martin@bigpond.com \n0438531117 \n
URL:https://coffsharbourboardriders.com.au/event/golf-day/
CATEGORIES:Comp
END:VEVENT
END:VCALENDAR